BEGIN:VCALENDAR
VERSION:2.0
PRODID:-//wp-events-plugin.com//7.2.3.1//EN
TZID:Europe/Zurich
X-WR-TIMEZONE:Europe/Zurich
BEGIN:VEVENT
UID:2@la-citadelle.ch
DTSTART;TZID=Europe/Zurich:20260319T143000
DTEND;TZID=Europe/Zurich:20260319T163000
DTSTAMP:20260227T173018Z
URL:https://la-citadelle.ch/events/peins-ta-forteresse-interieure/
SUMMARY:Peins ta forteresse intérieure
DESCRIPTION:Tu es une personne créative ou sensible et tu ressens le besoi
 n de ralentir\, de te recentrer et de t’exprimer autrement que par les m
 ots ?\nTu cherches un espace sécurisant pour te reconnecter à toi-même\
 , sans pression de résultat ni besoin de “savoir faire” ?\n\nDurant l
 ’atelier « Peins ta forteresse intérieure »\, tu exploreras la peintu
 re comme un outil d’introspection et de reconnexion. À travers un temps
  de méditation\, de visualisation et de peinture intuitive\, tu seras inv
 ité·e à lâcher le mental et à laisser ton ressenti guider ton geste.\
 n\nIci\, on ne cherche pas à créer quelque chose de joli ou de maîtris
 é\, mais à déposer sur la toile ce qui te soutient\, te protège et te 
 rend plus solide.\n\nCet atelier est une parenthèse douce pour toi\, un m
 oment pour te retrouver\, ressentir tes forces et repartir avec une créat
 ion porteuse de sens\, à laquelle revenir lorsque tu en ressentiras le be
 soin.
ATTACH;FMTTYPE=image/jpeg:https://la-citadelle.ch/wp-content/uploads/2024/
 07/84f16ce26541d61ce6370ddf1166d631-e1772109945653.jpg
CATEGORIES:Bien-être Mental
LOCATION:Couvert des Amis\, Rte de Plan-Baar 60\, Nendaz\,  1996 \, Valais\
 , Suisse
X-APPLE-STRUCTURED-LOCATION;VALUE=URI;X-ADDRESS=Rte de Plan-Baar 60\, Nenda
 z\,  1996 \, Valais\, Suisse;X-APPLE-RADIUS=100;X-TITLE=Couvert des Amis:g
 eo:0,0
END:VEVENT
BEGIN:VTIMEZONE
TZID:Europe/Zurich
X-LIC-LOCATION:Europe/Zurich
BEGIN:STANDARD
DTSTART:20251026T020000
TZOFFSETFROM:+0200
TZOFFSETTO:+0100
TZNAME:CET
END:STANDARD
END:VTIMEZONE
END:VCALENDAR